BEGIN:VCALENDAR
VERSION:2.0
PRODID:-//Mad River Distillers - ECPv6.15.18//NONSGML v1.0//EN
CALSCALE:GREGORIAN
METHOD:PUBLISH
X-ORIGINAL-URL:https://www.madriverdistillers.com
X-WR-CALDESC:Events for Mad River Distillers
REFRESH-INTERVAL;VALUE=DURATION:PT1H
X-Robots-Tag:noindex
X-PUBLISHED-TTL:PT1H
BEGIN:VTIMEZONE
TZID:UTC
BEGIN:STANDARD
TZOFFSETFROM:+0000
TZOFFSETTO:+0000
TZNAME:UTC
DTSTART:20230101T000000
END:STANDARD
END:VTIMEZONE
BEGIN:VEVENT
DTSTART;TZID=UTC:20240510T160000
DTEND;TZID=UTC:20240510T180000
DTSTAMP:20260423T094719
CREATED:20240313T135613Z
LAST-MODIFIED:20240313T135613Z
UID:11192-1715356800-1715364000@www.madriverdistillers.com
SUMMARY:MRD Tasting at Route 110 Liquors in Amesbury\, MA
DESCRIPTION:Join Mad River Distillers on Friday\, May 10th at Route 110 Liquors in Amesbury\, MA. There will be complimentary tastings from our line of spirits between 4:00pm-6:00pm. Feel free to ask questions! Bottles will be available for purchase.
URL:https://www.madriverdistillers.com/event/mrd-tasting-at-route-110-liquors-in-amesbury-ma/
LOCATION:Route 110 Liquors\, 25 Macy Street\, Amesbury\, 01913\, United States
END:VEVENT
END:VCALENDAR